BEGIN:VCALENDAR
VERSION:2.0
PRODID:icalendar-ruby
CALSCALE:GREGORIAN
BEGIN:VEVENT
DTSTAMP:20210122T154747Z
UID:f235b1a1-8167-4dbb-b342-9dc84a53432b
DTSTART;VALUE=DATE:20200312
DESCRIPTION:Property ID# 474440\, Locatoin: Ray White Leaders\, 9-11 Kings 
 Cres Lower Hutt\, Time: 4:00PM
SUMMARY:Auction for 
END:VEVENT
END:VCALENDAR
