BEGIN:VCALENDAR
VERSION:2.0
PRODID:icalendar-ruby
CALSCALE:GREGORIAN
BEGIN:VEVENT
DTSTAMP:20210119T185844Z
UID:2f710f43-9581-42d8-94cd-40dee95bfa10
DTSTART;VALUE=DATE:20200708
DESCRIPTION:Property ID# 483713\, Locatoin: Ray White office 31 Main Street
 \, Upper Hutt\, Time: 12:00PM
SUMMARY:Auction for 
END:VEVENT
END:VCALENDAR
