BEGIN:VCALENDAR
VERSION:2.0
PRODID:icalendar-ruby
CALSCALE:GREGORIAN
BEGIN:VEVENT
DTSTAMP:20210119T185842Z
UID:cd2d57a3-954d-40b9-8e8b-54aa6c833f97
DTSTART;VALUE=DATE:20200812
DESCRIPTION:Property ID# 485745\, Locatoin: Ray White Upper Hutt office at 
 31 Main Street\, Upper Hutt\, Time: 12:00PM
SUMMARY:Auction for 
END:VEVENT
END:VCALENDAR
