BEGIN:VCALENDAR
VERSION:2.0
PRODID:icalendar-ruby
CALSCALE:GREGORIAN
BEGIN:VEVENT
DTSTAMP:20210119T185839Z
UID:8f232500-4382-417c-920f-4b94750a1eae
DTSTART;VALUE=DATE:20200916
DESCRIPTION:Property ID# 489002\, Locatoin: 31 Main Street\, Upper Hutt (wi
 ll not be sold prior).\, Time: 12:00PM
SUMMARY:Auction for 
END:VEVENT
END:VCALENDAR
