BEGIN:VCALENDAR
VERSION:2.0
PRODID:icalendar-ruby
CALSCALE:GREGORIAN
BEGIN:VEVENT
DTSTAMP:20210119T185838Z
UID:ec69517b-076e-4130-8ce7-1c6b6a425860
DTSTART;VALUE=DATE:20201007
DESCRIPTION:Property ID# 490543\, Locatoin: 63A Mcloed Street\, Elderslea\,
  Time: 12:00PM
SUMMARY:Auction for 
END:VEVENT
END:VCALENDAR
