BEGIN:VCALENDAR
VERSION:2.0
PRODID:icalendar-ruby
CALSCALE:GREGORIAN
BEGIN:VEVENT
DTSTAMP:20210119T185845Z
UID:c35cd3af-c752-4c4f-84d4-b7da7a28cedf
DTSTART;VALUE=DATE:20201030
DESCRIPTION:Property ID# 492923\, Locatoin: Ray White Office 31 Main Street
 \, Upper Hutt\, Time: 1:00PM
SUMMARY:Auction for 
END:VEVENT
END:VCALENDAR
