BEGIN:VCALENDAR
VERSION:2.0
PRODID:icalendar-ruby
CALSCALE:GREGORIAN
BEGIN:VEVENT
DTSTAMP:20210122T154934Z
UID:612d743d-264a-4a65-85b2-7011d1a991d5
DTSTART;VALUE=DATE:20201120
DESCRIPTION:Property ID# 494666\, Locatoin: 120 Queens Dr\, Lower Hutt\, Ti
 me: 3:00PM
SUMMARY:Auction for 
END:VEVENT
END:VCALENDAR
