BEGIN:VCALENDAR
VERSION:2.0
PRODID:icalendar-ruby
CALSCALE:GREGORIAN
BEGIN:VEVENT
DTSTAMP:20210122T154755Z
UID:8db2f099-1079-403a-b48c-8bf13f78920f
DTSTART;VALUE=DATE:20201202
DESCRIPTION:Property ID# 496021\, Locatoin: Ray White Upper Hutt office at 
 31 Main Street\, Upper Hutt\, Time: 12:00PM
SUMMARY:Auction for 
END:VEVENT
END:VCALENDAR
