BEGIN:VCALENDAR
VERSION:2.0
PRODID:icalendar-ruby
CALSCALE:GREGORIAN
BEGIN:VEVENT
DTSTAMP:20210119T185833Z
UID:9fbb1a72-c62c-43ac-8377-005600f617a0
DTSTART;VALUE=DATE:20201203
DESCRIPTION:Property ID# 496022\, Locatoin: Ray White Upper Hutt office at 
 31 Main Street\, Upper Hutt\, Time: 12:00PM
SUMMARY:Auction for 
END:VEVENT
END:VCALENDAR
