BEGIN:VCALENDAR
VERSION:2.0
PRODID:icalendar-ruby
CALSCALE:GREGORIAN
BEGIN:VEVENT
DTSTAMP:20210119T185439Z
UID:aa2010d1-087f-4c25-b153-d03aa1c01ba0
DTSTART;VALUE=DATE:20210120
DESCRIPTION:Property ID# 498772\, Time: 4:00PM
SUMMARY:Auction for 
END:VEVENT
END:VCALENDAR
