BEGIN:VCALENDAR
VERSION:2.0
PRODID:icalendar-ruby
CALSCALE:GREGORIAN
BEGIN:VEVENT
DTSTAMP:20210119T185435Z
UID:fbe93aba-1af9-4500-b63a-1fda47211dbe
DTSTART;TZID=Pacific/Auckland:20210124T130000
DTEND;TZID=Pacific/Auckland:20210124T133000
DESCRIPTION:Property ID# 499362
SUMMARY:Openhome for 14/6 Keys Street
END:VEVENT
END:VCALENDAR
