BEGIN:VCALENDAR
VERSION:2.0
PRODID:icalendar-ruby
CALSCALE:GREGORIAN
BEGIN:VEVENT
DTSTAMP:20260422T005051Z
UID:13876d43-909d-4821-89dd-9337c634d50d
DTSTART;VALUE=DATE:20201028
DESCRIPTION:Property ID# 492035\, Locatoin: 62 Queen Street\, Upper Hutt\, 
 Time: 2:00PM
SUMMARY:Auction for 
END:VEVENT
END:VCALENDAR
