BEGIN:VCALENDAR
VERSION:2.0
PRODID:icalendar-ruby
CALSCALE:GREGORIAN
BEGIN:VEVENT
DTSTAMP:20260420T212300Z
UID:dcfda563-83cd-40ca-a746-2724231f01e9
DTSTART;VALUE=DATE:20230322
DESCRIPTION:Property ID# 552743\, Time: 2:00PM
SUMMARY:Auction for 
END:VEVENT
END:VCALENDAR
