BEGIN:VCALENDAR
VERSION:2.0
PRODID:icalendar-ruby
CALSCALE:GREGORIAN
BEGIN:VEVENT
DTSTAMP:20260419T150912Z
UID:1ae2ec10-d838-470e-bd8f-391a5164ca50
DTSTART;VALUE=DATE:20250130
DESCRIPTION:Property ID# 586232\, Locatoin: Ray White Upper Hutt\, Time: 12
 :00PM
SUMMARY:Auction for 
END:VEVENT
END:VCALENDAR
